BEGIN:VCALENDAR
VERSION:2.0
PRODID:Festa da Francesinha 
X-WR-CALNAME:Festa da Francesinha 
X-WR-TIMEZONE:Europe/Lisbon
X-PUBLISHED-TTL:P1W
BEGIN:VTIMEZONE
TZID:Europe/Lisbon
X-LIC-LOCATION:Europe/Lisbon
END:VTIMEZONE
BEGIN:VEVENT
UID:69e7a284d4d51
DTSTART;VALUE=DATE:20260426
SEQUENCE:0
TRANSP:OPAQUE
DTEND;VALUE=DATE:20260427
SUMMARY:Festa da Francesinha 
CLASS:PUBLIC
DESCRIPTION:No próximo 26 de abril\, a partir das 12h00\, o CDRC de Cardos
 as recebe a Festa da Francesinha.Venha saborear este prato típico e desfr
 utar de um ambiente animado\, com música ao vivo por Vozes da Bruxa.Entra
 da livre   Contamos com a sua presença!
X-MICROSOFT-CDO-ALLDAYEVENT:TRUE
DTSTAMP:20260421T161500Z
END:VEVENT
END:VCALENDAR