BEGIN:VCALENDAR
VERSION:2.0
PRODID:25 de abril 
X-WR-CALNAME:25 de abril 
X-WR-TIMEZONE:Europe/Lisbon
X-PUBLISHED-TTL:P1W
BEGIN:VTIMEZONE
TZID:Europe/Lisbon
X-LIC-LOCATION:Europe/Lisbon
END:VTIMEZONE
BEGIN:VEVENT
UID:69eb74ce57cb7
DTSTART;VALUE=DATE:20260425
SEQUENCE:0
TRANSP:OPAQUE
DTEND;VALUE=DATE:20260426
SUMMARY:25 de abril 
CLASS:PUBLIC
DESCRIPTION:Comemorações do 25 de abril&nbsp\;
X-MICROSOFT-CDO-ALLDAYEVENT:TRUE
DTSTAMP:20260424T134902Z
END:VEVENT
END:VCALENDAR